BEGIN:VCALENDAR
VERSION:2.0
PRODID:-//ChamberMaster//Event Calendar 2.0//EN
METHOD:PUBLISH
X-PUBLISHED-TTL:P1H
REFRESH-INTERVAL:P1H
CALSCALE:GREGORIAN
BEGIN:VTIMEZONE
TZID:America/New_York
BEGIN:DAYLIGHT
RRULE:FREQ=YEARLY;BYMONTH=3;BYDAY=2SU
DTSTART:20070101T000000
TZOFFSETFROM:-0500
TZOFFSETTO:-0400
TZNAME:Eastern Daylight Time
END:DAYLIGHT
BEGIN:STANDARD
RRULE:FREQ=YEARLY;BYMONTH=11;BYDAY=1SU
DTSTART:20070101T000000
TZOFFSETFROM:-0400
TZOFFSETTO:-0500
TZNAME:Eastern Standard Time
END:STANDARD
END:VTIMEZONE
BEGIN:VEVENT
DTSTART;TZID=America/New_York:20260425T090000
DTEND;TZID=America/New_York:20260425T120000
X-MICROSOFT-CDO-ALLDAYEVENT:FALSE
SUMMARY:Brockville Community Wide Clean Up
DESCRIPTION:The Brockville Community Wide Clean-up organizing committee is comprised of volunteer community members and students. The greatest efforts come directly from local volunteers and neighbours\, who pitch-in armed with gloves and garbage bags. Each year this event draws a few hundred volunteers\, removing tonnes of garbage and recyclable rubbish from our parks and green spaces. On behalf of our entire community\, the committee would like thank the sponsors of this event. Year after year\, our valued sponsors demonstrate the importance they place on the environment. As well\, we would like to thank all of those volunteers who contribute to make this event possible.More Information: https://brockvillecleanup.ca/
X-ALT-DESC;FMTTYPE=text/html:<!DOCTYPE html><html><head><title></title></head><body aria-disabled="false"><p>The Brockville Community Wide Clean-up organizing committee is comprised of volunteer community members and students. The greatest efforts come directly from local volunteers and neighbours\, who pitch-in armed with gloves and garbage bags. Each year this event draws a few hundred volunteers\, removing tonnes of garbage and recyclable rubbish from our parks and green spaces. On behalf of our entire community\, the committee would like thank the sponsors of this event. Year after year\, our valued sponsors demonstrate the importance they place on the environment. As well\, we would like to thank all of those volunteers who contribute to make this event possible.</p><p>More Information:&nbsp\;<a fr-original-style="" href="https://brockvillecleanup.ca/" style="user-select: auto\;">https://brockvillecleanup.ca/</a></p></body></html>
LOCATION:
UID:e.2999.1448850
SEQUENCE:3
DTSTAMP:20260423T021807Z
URL:https://members.brockvillechamber.com/eventcalendar/Details/brockville-community-wide-clean-up-1716156?sourceTypeId=Hub
END:VEVENT
END:VCALENDAR
